BEGIN:VCALENDAR
VERSION:2.0
PRODID:-//eventon.com NONSGML v1.0//EN
BEGIN:VEVENT
UID:69e4da9e0d941
DTSTAMP:20260419T073734
DTSTART:20191002T180000Z
DTEND:20191002T193000Z
LOCATION:Ellerslie Road Baptist Church 10603 Ellerslie Road Southwest Edmonton\,  Alberta\,  Canada\,  T6W 1A1
SUMMARY:ESL Classes
DESCRIPTION: We welcome neighbours who are new to Edmonton by helping them with two of their biggest needs - improving their spoken English and socializing with Canadians. Our Winter term runs from October 02 to December 04 2019. These free classes are for adults and no childcare is provided. If you[..]
END:VEVENT
END:VCALENDAR