BEGIN:VCALENDAR
VERSION:2.0
PRODID:-//eventon.com NONSGML v1.0//EN
BEGIN:VEVENT
UID:69eca8dbd9dd3
DTSTAMP:20260425T054323
DTSTART:20190201T174500Z
DTEND:20190201T203000Z
LOCATION:
SUMMARY:Youth Group
DESCRIPTION: Ellerslie Youth is open to anyone between the grades of 7-12. If you have come before\,  we would love to see you again and if you are new we would love to meet you! Friday night youth events are a time for the youth to get together at the end[..]
END:VEVENT
END:VCALENDAR