BEGIN:VCALENDAR
VERSION:2.0
PRODID:-//eventon.com NONSGML v1.0//EN
BEGIN:VEVENT
UID:69e893b217ddc
DTSTAMP:20260422T032402
DTSTART:20230122T140000Z
DTEND:20230122T160000Z
LOCATION:Hillview Baptist Church 253 Woodvale Rd
SUMMARY:Hymn Sing
DESCRIPTION: Once a month Edmonton area Churches join together in singing some of our favourite hymns! Be sure to stay afterwards to enjoy some refreshments and bring something to share. Location: Hillsview Baptist Church (253 Woodvale Road) (click on location address below to access map) **Please note\,  the location varies for[..]
END:VEVENT
END:VCALENDAR