BEGIN:VCALENDAR
VERSION:2.0
PRODID:-//eventon.com NONSGML v1.0//EN
BEGIN:VEVENT
UID:69e5f0b29c419
DTSTAMP:20260420T032402
DTSTART:20230705T180000Z
DTEND:20230705T200000Z
LOCATION:Ellerslie Road Baptist Church 10603 Ellerslie Road Southwest Edmonton\,  Alberta\,  Canada\,  T6W 1A1
SUMMARY:Summer Youth
DESCRIPTION: Students in grades 7 to 12 are invited to join in on the fun every Wednesday night all summer long! Bring a friend and meet up here at Ellerslie! No cost and no need to register. For the most up-to-date information follow us on facebook and instagram or contact us. Upcoming Events: July 5[..]
END:VEVENT
END:VCALENDAR