BEGIN:VCALENDAR
VERSION:2.0
PRODID:-//eventon.com NONSGML v1.0//EN
BEGIN:VEVENT
UID:69e8ae8939525
DTSTAMP:20260422T051833
DTSTART:20250119T081500Z
DTEND:20250119T093000Z
LOCATION:Main Auditorium - Ellerslie Road Baptist Church 10603 Ellerslie Rd SW\,  Edmonton\,  AB T6W 1A1
SUMMARY:Ellerslie | Worship Service @ 9:15 am
DESCRIPTION: Upon entering Ellerslie\,  prepare to feel a sense of belonging! You'll encounter welcoming smiles\,  uplifting live music\,  and empowering\,  Bible-centered teaching that will challenge and uplift you\,  regardless of where you are in your faith journey! Each Sunday\,  we offer two identical services at 9:15 am and 11:15 am. Unable[..]
END:VEVENT
END:VCALENDAR