BEGIN:VCALENDAR
VERSION:2.0
PRODID:-//eventon.com NONSGML v1.0//EN
BEGIN:VEVENT
UID:69e5f469401ce
DTSTAMP:20260420T033953
DTSTART:20250610T170000Z
DTEND:20250610T200000Z
LOCATION:Ellerslie Road Baptist Church - Gym 
SUMMARY:Potluck Night | Prime Time
DESCRIPTION: Ages 55+\,  bring a food dish and favourite recipe to share for our Potluck Night! We'll be joined by guest speaker\,  Rev. John Neufeld\,  who will be speaking on "Life Accordion to John". Last Names A-M | Bring a main dish Last Names N-Z | Bring a salad or dessert Registration opens May[..]
END:VEVENT
END:VCALENDAR