BEGIN:VCALENDAR
VERSION:2.0
PRODID:-//eventon.com NONSGML v1.0//EN
BEGIN:VEVENT
UID:69e5f0c95dea9
DTSTAMP:20260420T032425
DTSTART:20250425T183000Z
DTEND:20250425T200000Z
LOCATION:More Than A Fad Thrift Store 6924 68 Ave NW
SUMMARY:Ellerslie Women | Sorting Party
DESCRIPTION: Ladies\,  join us for a Sorting Party at More Than A Fad\,  a local thrift store supporting one of our mission partners\,  Adeara Recovery Centre. This is a meaningful and fun way to give back - sorting donations\,  sharing laughs\,  and spending time in community with other women. To learn more or[..]
END:VEVENT
END:VCALENDAR