BEGIN:VCALENDAR
VERSION:2.0
PRODID:-//eventon.com NONSGML v1.0//EN
BEGIN:VEVENT
UID:69e77f648f6f9
DTSTAMP:20260421T074508
DTSTART:20251007T180000Z
DTEND:20251007T200000Z
LOCATION:Ellerslie Road Baptist Church - Room 222 
SUMMARY:Bible Study | Young Adults
DESCRIPTION: Are you 18-29 years old and looking for a place to grow in your faith while hanging out with other young adults? Come join us every other Tuesday in Room 222! We’ll dive into Scripture together\,  have real conversations\,  and encourage each other as we figure out what it means[..]
END:VEVENT
END:VCALENDAR