BEGIN:VCALENDAR
VERSION:2.0
PRODID:-//eventon.com NONSGML v1.0//EN
BEGIN:VEVENT
UID:69e77f85b4239
DTSTAMP:20260421T074541
DTSTART:20260208T120000Z
DTEND:20260208T225000Z
LOCATION:
SUMMARY:Lunch | Young Adults
DESCRIPTION: Ages 18-29\,  join us for a casual lunch after church! We'll meet after the 11:15 am service at the welcome centre in the foyer and head for a bite to eat together. Everyone will be responsible for the cost of their own meal. Questions? Contact meredith.
END:VEVENT
END:VCALENDAR