BEGIN:VCALENDAR
VERSION:2.0
PRODID:-//eventon.com NONSGML v1.0//EN
BEGIN:VEVENT
UID:69e79a971fd71
DTSTAMP:20260421T094111
DTSTART:20251019T180000Z
DTEND:20251019T200000Z
LOCATION:Ellerslie Road Baptist Church - Room 222 
SUMMARY:30+ Adult Group | Bible Study
DESCRIPTION: Looking for a place to grow in your faith and connect with others in a similar stage of life? Join us for our Bible study designed for those in their thirties! We’ll dive into Scripture together\,  share great conversation\,  and enjoy some treats along the way. Bring your Bible and[..]
END:VEVENT
END:VCALENDAR