BEGIN:VCALENDAR
VERSION:2.0
PRODID:-//eventon.com NONSGML v1.0//EN
BEGIN:VEVENT
UID:69ebc30372a9f
DTSTAMP:20260424T132243
DTSTART:20200208T180000Z
DTEND:20200208T210000Z
LOCATION:Ellerslie Road Baptist Church West Court 10603 Ellerslie Rd SW\,  Edmonton\,  AB T6W 1A1
SUMMARY:Resurgence
DESCRIPTION: Resurgence is a community of young adults from across the Edmonton Capital Region. We gather from various backgrounds\,  churches\,  and denominations with a single desire to encounter God. It is the heartbeat behind every gathering or event we hold.
END:VEVENT
END:VCALENDAR